BEGIN:VCALENDAR
VERSION:2.0
PRODID:-//Skills Motorcycle Academy - ECPv6.15.20//NONSGML v1.0//EN
CALSCALE:GREGORIAN
METHOD:PUBLISH
X-WR-CALNAME:Skills Motorcycle Academy
X-ORIGINAL-URL:https://skillsmotorcycleacademy.ie
X-WR-CALDESC:Events for Skills Motorcycle Academy
REFRESH-INTERVAL;VALUE=DURATION:PT1H
X-Robots-Tag:noindex
X-PUBLISHED-TTL:PT1H
BEGIN:VTIMEZONE
TZID:Europe/Dublin
BEGIN:DAYLIGHT
TZOFFSETFROM:+0000
TZOFFSETTO:+0100
TZNAME:IST
DTSTART:20210328T010000
END:DAYLIGHT
BEGIN:STANDARD
TZOFFSETFROM:+0100
TZOFFSETTO:+0000
TZNAME:GMT
DTSTART:20211031T010000
END:STANDARD
BEGIN:DAYLIGHT
TZOFFSETFROM:+0000
TZOFFSETTO:+0100
TZNAME:IST
DTSTART:20220327T010000
END:DAYLIGHT
BEGIN:STANDARD
TZOFFSETFROM:+0100
TZOFFSETTO:+0000
TZNAME:GMT
DTSTART:20221030T010000
END:STANDARD
BEGIN:DAYLIGHT
TZOFFSETFROM:+0000
TZOFFSETTO:+0100
TZNAME:IST
DTSTART:20230326T010000
END:DAYLIGHT
BEGIN:STANDARD
TZOFFSETFROM:+0100
TZOFFSETTO:+0000
TZNAME:GMT
DTSTART:20231029T010000
END:STANDARD
END:VTIMEZONE
BEGIN:VEVENT
DTSTART;TZID=Europe/Dublin:20220703T140000
DTEND;TZID=Europe/Dublin:20220703T160000
DTSTAMP:20260425T134135
CREATED:20220601T062341Z
LAST-MODIFIED:20220624T123424Z
UID:318-1656856800-1656864000@skillsmotorcycleacademy.ie
SUMMARY:Skills Motorcycle Academy CONE PRACTICE DAY July 3rd 2022 - AFTERNOON - SOLD OUT
DESCRIPTION:Come and join us for unlimited cone practice and slow riding in a safe and controlled environment. \n\n\n\nThe Skills Motorcycle Academy venue will be open between 1pm and 3pm with a number of different cone patterns and practice areas setup. \n\n\n\nThere will be no lessons or instruction on the day but our team will be on-hand to encourage you and no doubt add some pointers. \n\n\n\nThis booking is for the afternoon session and you may join at any time during the session – session ends at 3pm.
URL:https://skillsmotorcycleacademy.ie/index.php/event/skills-motorcycle-academy-cone-practice-day-july-3rd-2022-afternoon/
LOCATION:Skills Motorcycle Academy – Advanced Handling Compound\, Newbridge Greyhound Stadium\, Newbridge\, Kildare\, W12 FV06\, Ireland
END:VEVENT
BEGIN:VEVENT
DTSTART;TZID=Europe/Dublin:20220703T120000
DTEND;TZID=Europe/Dublin:20220703T140000
DTSTAMP:20260425T134135
CREATED:20220531T211320Z
LAST-MODIFIED:20220624T123347Z
UID:313-1656849600-1656856800@skillsmotorcycleacademy.ie
SUMMARY:Skills Motorcycle Academy CONE PRACTICE DAY July 3rd 2022 - MORNING - SOLD OUT
DESCRIPTION:Come and join us for unlimited cone practice and slow riding in a safe and controlled environment. \n\n\n\nThe Skills Motorcycle Academy venue will be open between 11am and 1pm with a number of different cone patterns and practice areas setup. \n\n\n\nThere will be no lessons or instruction on the day but our team will be on-hand to encourage you and no doubt add some pointers. \n\n\n\nThis booking is for the morning session and you may join at any time during the session – session ends at 1pm.
URL:https://skillsmotorcycleacademy.ie/index.php/event/skills-motorcycle-academy-cone-practice-day-july-3rd-2022/
LOCATION:Skills Motorcycle Academy – Advanced Handling Compound\, Newbridge Greyhound Stadium\, Newbridge\, Kildare\, W12 FV06\, Ireland
END:VEVENT
BEGIN:VEVENT
DTSTART;TZID=Europe/Dublin:20220626T120000
DTEND;TZID=Europe/Dublin:20220626T160000
DTSTAMP:20260425T134135
CREATED:20220410T181412Z
LAST-MODIFIED:20220530T101308Z
UID:276-1656244800-1656259200@skillsmotorcycleacademy.ie
SUMMARY:Skills Motorcycle Academy Advanced Handling Course 26th June 2022 - SOLD OUT
DESCRIPTION:Skills Motorcycle Academy Advanced Handling Course – Learn the 3 simple techniques that will enable you to master any motorcycles handling at low speed and in enclosed spaces. These techniques are the foundations of all advanced street riding. Suitable for any style of motorcycle\, cruiser\, tourer or sports bike. \n\n\n\nJoin us at our new venue for 2022\, located just off the M7 in Newbridge Co. Kildare\, for the SMART-Advanced Handling Clinic.  The course is open to all riders and machines (you will ride your own bike during the course).  To get the best from this course we suggest you have at least 1 years riding experience. \n\n\n\nCourse Duration: 4 hours \n\n\n\nPlease see our Advanced Handling Clinic page for details of what you can expect from the course. \n\n\n\nSorry this event is now SOLD OUT.  \n\n\n\nPlease book on to another event or register HERE for the waiting list in event of a cancellation
URL:https://skillsmotorcycleacademy.ie/index.php/event/skills-motorcycle-academy-advanced-handling-course-26th-june-2022/
LOCATION:Kildare
END:VEVENT
BEGIN:VEVENT
DTSTART;TZID=Europe/Dublin:20220529T120000
DTEND;TZID=Europe/Dublin:20220529T160000
DTSTAMP:20260425T134135
CREATED:20220410T180240Z
LAST-MODIFIED:20220427T080440Z
UID:268-1653825600-1653840000@skillsmotorcycleacademy.ie
SUMMARY:Skills Motorcycle Academy Advanced Handling Course 29th May 2022 - SOLD OUT
DESCRIPTION:Skills Motorcycle Academy Advanced Handling Course – Learn the 3 simple techniques that will enable you to master any motorcycles handling at low speed and in enclosed spaces. These techniques are the foundations of all advanced street riding. Suitable for any style of motorcycle\, cruiser\, tourer or sports bike. \n\n\n\nJoin us at our new venue for 2022\, located just off the M7 in Newbridge Co. Kildare\, for the SMART-Advanced Handling Clinic.  The course is open to all riders and machines (you will ride your own bike during the course).  To get the best from this course we suggest you have at least 1 years riding experience. \n\n\n\nCourse Duration: 4 hours \n\n\n\nPlease see our Advanced Handling Clinic page for details of what you can expect from the course. \n\n\n\nSOLD OUT – PLEASE SEE OTHER UPCOMING DATES
URL:https://skillsmotorcycleacademy.ie/index.php/event/skills-motorcycle-academy-advanced-handling-course-29th-may-2022/
LOCATION:Skills Motorcycle Academy – Advanced Handling Compound\, Newbridge Greyhound Stadium\, Newbridge\, Kildare\, W12 FV06\, Ireland
END:VEVENT
BEGIN:VEVENT
DTSTART;TZID=Europe/Dublin:20220424T150000
DTEND;TZID=Europe/Dublin:20220424T190000
DTSTAMP:20260425T134135
CREATED:20220328T164225Z
LAST-MODIFIED:20220411T061557Z
UID:246-1650812400-1650826800@skillsmotorcycleacademy.ie
SUMMARY:Skills Motorcycle Academy Advanced Handling Course 24th April 2022 (Afternoon) SOLD OUT
DESCRIPTION:Skills Motorcycle Academy Advanced Handling Course – Learn the 3 simple techniques that will enable you to master any motorcycles handling at low speed. These techniques are the foundations of all advanced street riding. Suitable for any style of motorcycle\, cruiser\, tourer or sports bike. \nJoin us at Leopardstown Racecourse for the SMART-Advanced Handling Clinic.  The course is open to all riders and machines (you will ride your own bike during the course).  To get the best from this course we suggest you have at least 1 years riding experience. \nCourse Duration: 4 hours \nPlease see our Advanced Handling Clinic page for details of what you can expect from the course. \nSOLD OUT
URL:https://skillsmotorcycleacademy.ie/index.php/event/skills-motorcycle-academy-advanced-handling-course-24th-april-2022-afternoon/
LOCATION:Kildare
END:VEVENT
BEGIN:VEVENT
DTSTART;TZID=Europe/Dublin:20220424T100000
DTEND;TZID=Europe/Dublin:20220424T140000
DTSTAMP:20260425T134135
CREATED:20220328T170558Z
LAST-MODIFIED:20220411T061708Z
UID:259-1650794400-1650808800@skillsmotorcycleacademy.ie
SUMMARY:Skills Motorcycle Academy Advanced Handling Course 24th April 2022 (Morning) SOLD OUT
DESCRIPTION:Skills Motorcycle Academy Advanced Handling Course – Learn the 3 simple techniques that will enable you to master any motorcycles handling at low speed. These techniques are the foundations of all advanced street riding. Suitable for any style of motorcycle\, cruiser\, tourer or sports bike. \n\n\n\nJoin us at Leopardstown Racecourse for the SMART-Advanced Handling Clinic.  The course is open to all riders and machines (you will ride your own bike during the course).  To get the best from this course we suggest you have at least 1 years riding experience. \n\n\n\nCourse Duration: 4 hours \n\n\n\nPlease see our Advanced Handling Clinic page for details of what you can expect from the course. \n\n\n\nSOLD OUT
URL:https://skillsmotorcycleacademy.ie/index.php/event/skills-motorcycle-academy-advanced-handling-course-24th-april-2022-morning-sold-out-see-afternoon-session-for-more-places/
LOCATION:Kildare
END:VEVENT
END:VCALENDAR