BEGIN:VCALENDAR
VERSION:2.0
PRODID:-//Skills Motorcycle Academy - ECPv6.15.20//NONSGML v1.0//EN
CALSCALE:GREGORIAN
METHOD:PUBLISH
X-WR-CALNAME:Skills Motorcycle Academy
X-ORIGINAL-URL:https://skillsmotorcycleacademy.ie
X-WR-CALDESC:Events for Skills Motorcycle Academy
REFRESH-INTERVAL;VALUE=DURATION:PT1H
X-Robots-Tag:noindex
X-PUBLISHED-TTL:PT1H
BEGIN:VTIMEZONE
TZID:Europe/Dublin
BEGIN:DAYLIGHT
TZOFFSETFROM:+0000
TZOFFSETTO:+0100
TZNAME:IST
DTSTART:20210328T010000
END:DAYLIGHT
BEGIN:STANDARD
TZOFFSETFROM:+0100
TZOFFSETTO:+0000
TZNAME:GMT
DTSTART:20211031T010000
END:STANDARD
BEGIN:DAYLIGHT
TZOFFSETFROM:+0000
TZOFFSETTO:+0100
TZNAME:IST
DTSTART:20220327T010000
END:DAYLIGHT
BEGIN:STANDARD
TZOFFSETFROM:+0100
TZOFFSETTO:+0000
TZNAME:GMT
DTSTART:20221030T010000
END:STANDARD
BEGIN:DAYLIGHT
TZOFFSETFROM:+0000
TZOFFSETTO:+0100
TZNAME:IST
DTSTART:20230326T010000
END:DAYLIGHT
BEGIN:STANDARD
TZOFFSETFROM:+0100
TZOFFSETTO:+0000
TZNAME:GMT
DTSTART:20231029T010000
END:STANDARD
BEGIN:DAYLIGHT
TZOFFSETFROM:+0000
TZOFFSETTO:+0100
TZNAME:IST
DTSTART:20240331T010000
END:DAYLIGHT
BEGIN:STANDARD
TZOFFSETFROM:+0100
TZOFFSETTO:+0000
TZNAME:GMT
DTSTART:20241027T010000
END:STANDARD
BEGIN:DAYLIGHT
TZOFFSETFROM:+0000
TZOFFSETTO:+0100
TZNAME:IST
DTSTART:20250330T010000
END:DAYLIGHT
BEGIN:STANDARD
TZOFFSETFROM:+0100
TZOFFSETTO:+0000
TZNAME:GMT
DTSTART:20251026T010000
END:STANDARD
END:VTIMEZONE
BEGIN:VEVENT
DTSTART;TZID=Europe/Dublin:20240414T110000
DTEND;TZID=Europe/Dublin:20240414T150000
DTSTAMP:20260425T153820
CREATED:20240129T183050Z
LAST-MODIFIED:20240129T183051Z
UID:425-1713092400-1713106800@skillsmotorcycleacademy.ie
SUMMARY:Skills Motorcycle Academy Advanced Handling Course 14th April 2024 - SOLD OUT
DESCRIPTION:Skills Motorcycle Academy Advanced Handling Course – Learn the 3 simple techniques that will enable you to master any motorcycles handling at low speed. These techniques are the foundations of all advanced street riding. Suitable for any style of motorcycle\, cruiser\, tourer or sports bike. \n\n\n\nJoin us at Leopardstown Racecourse for the SMART-Advanced Handling Clinic.  The course is open to all riders and machines (you will ride your own bike during the course).  To get the best from this course we suggest you have at least 1 years riding experience. \n\n\n\nCourse Duration: 4 hours \n\n\n\nPlease see our Advanced Handling Clinic page for details of what you can expect from the course. \n\n\n\nSorry this event is now sold out – please see alternative dates HERE
URL:https://skillsmotorcycleacademy.ie/index.php/event/skills-motorcycle-academy-advanced-handling-course-14th-april-2024-sold-out/
LOCATION:Leopardstown\, Leopardstown Racecourse\, Foxrock\, Dublin\, D18 C9V6\, Ireland
END:VEVENT
BEGIN:VEVENT
DTSTART;TZID=Europe/Dublin:20230820T110000
DTEND;TZID=Europe/Dublin:20230820T150000
DTSTAMP:20260425T153820
CREATED:20230403T203724Z
LAST-MODIFIED:20230707T192305Z
UID:382-1692529200-1692543600@skillsmotorcycleacademy.ie
SUMMARY:Skills Motorcycle Academy Advanced Handling Course 20th August 2023 - SOLD OUT
DESCRIPTION:Learn the 3 simple techniques that will enable you to master any motorcycles handling at low speed and in enclosed spaces. These techniques are the foundations of all advanced street riding. Suitable for any style of motorcycle\, cruiser\, tourer or sports bike. \n\n\n\nJoin us at our Kildare venue\, located just off the M7 in Newbridge Co. Kildare\, for the SMART-Advanced Handling Clinic.  The course is open to all riders and machines (you will ride your own bike during the course).  To get the best from this course we suggest you have at least 1 years riding experience. \n\n\n\nCourse Duration: 4 hours \n\n\n\nPlease see our Advanced Handling Clinic page for details of what you can expect from the course \n\n\n\nSorry our last Advanced Handling Clinic Level 1 event for 2023 is now sold out  – please register for updates and details of our 2024 events here
URL:https://skillsmotorcycleacademy.ie/index.php/event/skills-motorcycle-academy-advanced-handling-course-20th-august-2023/
LOCATION:Newbridge\, Cornelscourt\, Newbridge\, Co. Kildare\, W12 FV06\, Ireland
END:VEVENT
BEGIN:VEVENT
DTSTART;TZID=Europe/Dublin:20230730T110000
DTEND;TZID=Europe/Dublin:20230730T150000
DTSTAMP:20260425T153820
CREATED:20230222T194449Z
LAST-MODIFIED:20230704T184542Z
UID:365-1690714800-1690729200@skillsmotorcycleacademy.ie
SUMMARY:Skills Motorcycle Academy Advanced Handling Clinic Level 2 -  30th July 2023 - SOLD OUT
DESCRIPTION:Have you already attended our Advanced Handling Clinic Level 1 or do you already have a good handle on the 3 techniques?  You do…then come and join us as we take your low speed handling to a whole new level.  Building on the skills from level 1 you will experience enhanced techniques for managing quick transitions\, execute excellent front tyre placement and optimize body positioning with new exercises and some familiar ones too (but maybe just a little tighter!). This is a day of advanced handling exercises not to be missed. \n\n\n\nThis course is suitable for riders that understand\, and have practiced\, the 3 techniques and are confident with a 24ft U turn. \n\n\n\nCourse Duration: 4 hours \n\n\n\nCourse Location: Newbridge Co. Kildare \n\n\n\nSorry the level 2 course is now sold out – please register your interest here for future courses
URL:https://skillsmotorcycleacademy.ie/index.php/event/skills-motorcycle-academy-advanced-handling-clinic-level-2-30th-july-2023/
LOCATION:Newbridge\, Cornelscourt\, Newbridge\, Co. Kildare\, W12 FV06\, Ireland
END:VEVENT
BEGIN:VEVENT
DTSTART;TZID=Europe/Dublin:20230702T110000
DTEND;TZID=Europe/Dublin:20230702T150000
DTSTAMP:20260425T153820
CREATED:20230330T075143Z
LAST-MODIFIED:20230627T202059Z
UID:380-1688295600-1688310000@skillsmotorcycleacademy.ie
SUMMARY:Skills Motorcycle Academy Advanced Handling Course 2nd July 2023 - SOLD OUT
DESCRIPTION:Skills Motorcycle Academy Advanced Handling Course – Learn the 3 simple techniques that will enable you to master any motorcycles handling at low speed. These techniques are the foundations of all advanced street riding. Suitable for any style of motorcycle\, cruiser\, tourer or sports bike. \n\n\n\nJoin us at Leopardstown Racecourse for the SMART-Advanced Handling Clinic.  The course is open to all riders and machines (you will ride your own bike during the course).  To get the best from this course we suggest you have at least 1 years riding experience. \n\n\n\nCourse Duration: 4 hours \n\n\n\nPlease see our Advanced Handling Clinic page for details of what you can expect from the course. \n\n\n\nSorry this course is now sold out – please see our events page for future courses
URL:https://skillsmotorcycleacademy.ie/index.php/event/skills-motorcycle-academy-advanced-handling-course-2nd-july-2023/
LOCATION:Leopardstown\, Leopardstown Racecourse\, Foxrock\, Dublin\, D18 C9V6\, Ireland
END:VEVENT
BEGIN:VEVENT
DTSTART;TZID=Europe/Dublin:20230618T110000
DTEND;TZID=Europe/Dublin:20230618T150000
DTSTAMP:20260425T153820
CREATED:20230329T162128Z
LAST-MODIFIED:20230612T200537Z
UID:374-1687086000-1687100400@skillsmotorcycleacademy.ie
SUMMARY:Skills Motorcycle Academy Advanced Handling Course 18th June  2023 - SOLD OUT
DESCRIPTION:Celebrate Fathers Day with us! Learn the 3 simple techniques that will enable you to master any motorcycles handling at low speed and in enclosed spaces. These techniques are the foundations of all advanced street riding. Suitable for any style of motorcycle\, cruiser\, tourer or sports bike. \n\n\n\nJoin us at our Kildare venue\, located just off the M7 in Newbridge Co. Kildare\, for the SMART-Advanced Handling Clinic.  The course is open to all riders and machines (you will ride your own bike during the course).  To get the best from this course we suggest you have at least 1 years riding experience. \n\n\n\nCourse Duration: 4 hours \n\n\n\nPlease see our Advanced Handling Clinic page for details of what you can expect from the course \n\n\n\nPlease see our events page for upcoming dates
URL:https://skillsmotorcycleacademy.ie/index.php/event/skills-motorcycle-academy-advanced-handling-course-june-18th-2023/
LOCATION:Newbridge\, Cornelscourt\, Newbridge\, Co. Kildare\, W12 FV06\, Ireland
END:VEVENT
BEGIN:VEVENT
DTSTART;TZID=Europe/Dublin:20230528T110000
DTEND;TZID=Europe/Dublin:20230528T150000
DTSTAMP:20260425T153820
CREATED:20230329T162603Z
LAST-MODIFIED:20230501T190407Z
UID:377-1685271600-1685286000@skillsmotorcycleacademy.ie
SUMMARY:Skills Motorcycle Academy Advanced Handling Course 28th May 2023 - SOLD OUT
DESCRIPTION:Skills Motorcycle Academy Advanced Handling Course – Learn the 3 simple techniques that will enable you to master any motorcycles handling at low speed. These techniques are the foundations of all advanced street riding. Suitable for any style of motorcycle\, cruiser\, tourer or sports bike. \n\n\n\nJoin us at Leopardstown Racecourse for the SMART-Advanced Handling Clinic.  The course is open to all riders and machines (you will ride your own bike during the course).  To get the best from this course we suggest you have at least 1 years riding experience. \n\n\n\nCourse Duration: 4 hours \n\n\n\nPlease see our Advanced Handling Clinic page for details of what you can expect from the course. \n\n\n\nSorry this course is now sold out – please see HERE for upcoming dates
URL:https://skillsmotorcycleacademy.ie/index.php/event/skills-motorcycle-academy-advanced-handling-course-28th-may-2023/
LOCATION:Leopardstown\, Leopardstown Racecourse\, Foxrock\, Dublin\, D18 C9V6\, Ireland
END:VEVENT
BEGIN:VEVENT
DTSTART;TZID=Europe/Dublin:20230507T110000
DTEND;TZID=Europe/Dublin:20230507T150000
DTSTAMP:20260425T153820
CREATED:20230127T213436Z
LAST-MODIFIED:20230504T170027Z
UID:357-1683457200-1683471600@skillsmotorcycleacademy.ie
SUMMARY:Motowitch Girls Day Advanced Handling Course 7th May 2023 - SOLD OUT
DESCRIPTION:Join us and the Motowitch community on a ‘Girls Only’ day. Learn the 3 simple techniques that will enable you to master any motorcycles handling at low speed and in enclosed spaces. These techniques are the foundations of all advanced street riding. Suitable for any style of motorcycle\, cruiser\, tourer or sports bike. \n\n\n\nJoin us at our Kildare venue\, located just off the M7 in Newbridge Co. Kildare\, for the SMART-Advanced Handling Clinic.  The course is open to all riders and machines (you will ride your own bike during the course).  To get the best from this course we suggest you have at least 1 years riding experience. \n\n\n\nCourse Duration: 4 hours \n\n\n\nPlease see our Advanced Handling Clinic page for details of what you can expect from the course. \n\n\n\nPlaces for this special event are limited so reserve your place with a €50 deposit today…..don’t forget to add your Motowitch promo code for the special Motowitch discount. \n\n\n\nSorry this event is now sold out but please see our events page for other courses
URL:https://skillsmotorcycleacademy.ie/index.php/event/motowitch-girls-day-advanced-handling-course-7th-may-2023/
LOCATION:Newbridge\, Cornelscourt\, Newbridge\, Co. Kildare\, W12 FV06\, Ireland
END:VEVENT
BEGIN:VEVENT
DTSTART;TZID=Europe/Dublin:20230423T110000
DTEND;TZID=Europe/Dublin:20230423T150000
DTSTAMP:20260425T153820
CREATED:20230127T210152Z
LAST-MODIFIED:20230423T182728Z
UID:353-1682247600-1682262000@skillsmotorcycleacademy.ie
SUMMARY:Skills Motorcycle Academy Advanced Handling Course 23rd April 2023 - SOLD OUT
DESCRIPTION:Learn the 3 simple techniques that will enable you to master any motorcycles handling at low speed and in enclosed spaces. These techniques are the foundations of all advanced street riding. Suitable for any style of motorcycle\, cruiser\, tourer or sports bike. \n\n\n\nJoin us at our Kildare venue\, located just off the M7 in Newbridge Co. Kildare\, for the SMART-Advanced Handling Clinic.  The course is open to all riders and machines (you will ride your own bike during the course).  To get the best from this course we suggest you have at least 1 years riding experience. \n\n\n\nCourse Duration: 4 hours \n\n\n\nPlease see our Advanced Handling Clinic page for details of what you can expect from the course. \n\n\n\nSOLD OUT – PLEASE VISIT THE EVENTS PAGE FOR ALTERNATIVE DATES
URL:https://skillsmotorcycleacademy.ie/index.php/event/skills-motorcycle-academy-advanced-handling-course-23rd-april-2023/
LOCATION:Newbridge\, Cornelscourt\, Newbridge\, Co. Kildare\, W12 FV06\, Ireland
END:VEVENT
BEGIN:VEVENT
DTSTART;TZID=Europe/Dublin:20230326T110000
DTEND;TZID=Europe/Dublin:20230326T150000
DTSTAMP:20260425T153820
CREATED:20230127T205322Z
LAST-MODIFIED:20230423T182637Z
UID:349-1679828400-1679842800@skillsmotorcycleacademy.ie
SUMMARY:Skills Motorcycle Academy Advanced Handling Course 26th March 2023 - SOLD OUT
DESCRIPTION:Skills Motorcycle Academy Advanced Handling Course – Learn the 3 simple techniques that will enable you to master any motorcycles handling at low speed. These techniques are the foundations of all advanced street riding. Suitable for any style of motorcycle\, cruiser\, tourer or sports bike. \n\n\n\nJoin us at Leopardstown Racecourse for the SMART-Advanced Handling Clinic.  The course is open to all riders and machines (you will ride your own bike during the course).  To get the best from this course we suggest you have at least 1 years riding experience. \n\n\n\nCourse Duration: 4 hours \n\n\n\nPlease see our Advanced Handling Clinic page for details of what you can expect from the course. \n\n\n\nSorry this event is now sold out – please check out our other events
URL:https://skillsmotorcycleacademy.ie/index.php/event/skills-motorcycle-academy-advanced-handling-course-26th-march-2023/
LOCATION:Leopardstown\, Leopardstown Racecourse\, Foxrock\, Dublin\, D18 C9V6\, Ireland
END:VEVENT
BEGIN:VEVENT
DTSTART;TZID=Europe/Dublin:20221002T110000
DTEND;TZID=Europe/Dublin:20221002T150000
DTSTAMP:20260425T153820
CREATED:20220705T191028Z
LAST-MODIFIED:20230127T205629Z
UID:329-1664708400-1664722800@skillsmotorcycleacademy.ie
SUMMARY:Skills Motorcycle Academy Advanced Handling Course  2nd October 2022 -  SOLD OUT
DESCRIPTION:This will be the last clinic for 2022 so come down for the season finale and join us on the Skills Motorcycle Academy Advanced Handling Course – Learn the 3 simple techniques that will enable you to master any motorcycles handling at low speed and in enclosed spaces. These techniques are the foundations of all advanced street riding. Suitable for any style of motorcycle\, cruiser\, tourer or sports bike. \n\n\n\nJoin us at our new venue for 2022\, located just off the M7 in Newbridge Co. Kildare\, for the SMART-Advanced Handling Clinic.  The course is open to all riders and machines (you will ride your own bike during the course).  To get the best from this course we suggest you have at least 1 years riding experience. \n\n\n\nCourse Duration: 4 hours \n\n\n\nPlease see our Advanced Handling Clinic page for details of what you can expect from the course. \n\n\n\nSold Out
URL:https://skillsmotorcycleacademy.ie/index.php/event/skills-motorcycle-academy-advanced-handling-course-2nd-october-2022/
LOCATION:Dublin
END:VEVENT
BEGIN:VEVENT
DTSTART;TZID=Europe/Dublin:20220904T120000
DTEND;TZID=Europe/Dublin:20220904T160000
DTSTAMP:20260425T153820
CREATED:20220502T200656Z
LAST-MODIFIED:20220705T191148Z
UID:294-1662292800-1662307200@skillsmotorcycleacademy.ie
SUMMARY:Skills Motorcycle Academy Advanced Handling Course 4th September 2022 - SOLD OUT
DESCRIPTION:Skills Motorcycle Academy Advanced Handling Course – Learn the 3 simple techniques that will enable you to master any motorcycles handling at low speed and in enclosed spaces. These techniques are the foundations of all advanced street riding. Suitable for any style of motorcycle\, cruiser\, tourer or sports bike. \n\n\n\nJoin us at our new venue for 2022\, located just off the M7 in Newbridge Co. Kildare\, for the SMART-Advanced Handling Clinic.  The course is open to all riders and machines (you will ride your own bike during the course).  To get the best from this course we suggest you have at least 1 years riding experience. \n\n\n\nCourse Duration: 4 hours \n\n\n\nPlease see our Advanced Handling Clinic page for details of what you can expect from the course. \n\n\n\nTo reserve your place please click on the link below\, a €50 deposit is required on booking.
URL:https://skillsmotorcycleacademy.ie/index.php/event/skills-motorcycle-academy-advanced-handling-course-4th-september-2022/
LOCATION:Dublin
END:VEVENT
BEGIN:VEVENT
DTSTART;TZID=Europe/Dublin:20220731T120000
DTEND;TZID=Europe/Dublin:20220731T160000
DTSTAMP:20260425T153820
CREATED:20220427T081240Z
LAST-MODIFIED:20220502T200345Z
UID:287-1659268800-1659283200@skillsmotorcycleacademy.ie
SUMMARY:Skills Motorcycle Academy Advanced Handling Course 31st July 2022 - SOLD OUT
DESCRIPTION:Skills Motorcycle Academy Advanced Handling Course – Learn the 3 simple techniques that will enable you to master any motorcycles handling at low speed and in enclosed spaces. These techniques are the foundations of all advanced street riding. Suitable for any style of motorcycle\, cruiser\, tourer or sports bike. \n\n\n\nJoin us at our new venue for 2022\, located just off the M7 in Newbridge Co. Kildare\, for the SMART-Advanced Handling Clinic.  The course is open to all riders and machines (you will ride your own bike during the course).  To get the best from this course we suggest you have at least 1 years riding experience. \n\n\n\nCourse Duration: 4 hours \n\n\n\nPlease see our Advanced Handling Clinic page for details of what you can expect from the course. \n\n\n\nSorry SOLD OUT – Please see events page for alternative dates
URL:https://skillsmotorcycleacademy.ie/index.php/event/skills-motorcycle-academy-advanced-handling-course-31st-july-2022/
LOCATION:Dublin
END:VEVENT
BEGIN:VEVENT
DTSTART;TZID=Europe/Dublin:20220703T140000
DTEND;TZID=Europe/Dublin:20220703T160000
DTSTAMP:20260425T153820
CREATED:20220601T062341Z
LAST-MODIFIED:20220624T123424Z
UID:318-1656856800-1656864000@skillsmotorcycleacademy.ie
SUMMARY:Skills Motorcycle Academy CONE PRACTICE DAY July 3rd 2022 - AFTERNOON - SOLD OUT
DESCRIPTION:Come and join us for unlimited cone practice and slow riding in a safe and controlled environment. \n\n\n\nThe Skills Motorcycle Academy venue will be open between 1pm and 3pm with a number of different cone patterns and practice areas setup. \n\n\n\nThere will be no lessons or instruction on the day but our team will be on-hand to encourage you and no doubt add some pointers. \n\n\n\nThis booking is for the afternoon session and you may join at any time during the session – session ends at 3pm.
URL:https://skillsmotorcycleacademy.ie/index.php/event/skills-motorcycle-academy-cone-practice-day-july-3rd-2022-afternoon/
LOCATION:Skills Motorcycle Academy – Advanced Handling Compound\, Newbridge Greyhound Stadium\, Newbridge\, Kildare\, W12 FV06\, Ireland
END:VEVENT
BEGIN:VEVENT
DTSTART;TZID=Europe/Dublin:20220703T120000
DTEND;TZID=Europe/Dublin:20220703T140000
DTSTAMP:20260425T153820
CREATED:20220531T211320Z
LAST-MODIFIED:20220624T123347Z
UID:313-1656849600-1656856800@skillsmotorcycleacademy.ie
SUMMARY:Skills Motorcycle Academy CONE PRACTICE DAY July 3rd 2022 - MORNING - SOLD OUT
DESCRIPTION:Come and join us for unlimited cone practice and slow riding in a safe and controlled environment. \n\n\n\nThe Skills Motorcycle Academy venue will be open between 11am and 1pm with a number of different cone patterns and practice areas setup. \n\n\n\nThere will be no lessons or instruction on the day but our team will be on-hand to encourage you and no doubt add some pointers. \n\n\n\nThis booking is for the morning session and you may join at any time during the session – session ends at 1pm.
URL:https://skillsmotorcycleacademy.ie/index.php/event/skills-motorcycle-academy-cone-practice-day-july-3rd-2022/
LOCATION:Skills Motorcycle Academy – Advanced Handling Compound\, Newbridge Greyhound Stadium\, Newbridge\, Kildare\, W12 FV06\, Ireland
END:VEVENT
BEGIN:VEVENT
DTSTART;TZID=Europe/Dublin:20220626T120000
DTEND;TZID=Europe/Dublin:20220626T160000
DTSTAMP:20260425T153820
CREATED:20220410T181412Z
LAST-MODIFIED:20220530T101308Z
UID:276-1656244800-1656259200@skillsmotorcycleacademy.ie
SUMMARY:Skills Motorcycle Academy Advanced Handling Course 26th June 2022 - SOLD OUT
DESCRIPTION:Skills Motorcycle Academy Advanced Handling Course – Learn the 3 simple techniques that will enable you to master any motorcycles handling at low speed and in enclosed spaces. These techniques are the foundations of all advanced street riding. Suitable for any style of motorcycle\, cruiser\, tourer or sports bike. \n\n\n\nJoin us at our new venue for 2022\, located just off the M7 in Newbridge Co. Kildare\, for the SMART-Advanced Handling Clinic.  The course is open to all riders and machines (you will ride your own bike during the course).  To get the best from this course we suggest you have at least 1 years riding experience. \n\n\n\nCourse Duration: 4 hours \n\n\n\nPlease see our Advanced Handling Clinic page for details of what you can expect from the course. \n\n\n\nSorry this event is now SOLD OUT.  \n\n\n\nPlease book on to another event or register HERE for the waiting list in event of a cancellation
URL:https://skillsmotorcycleacademy.ie/index.php/event/skills-motorcycle-academy-advanced-handling-course-26th-june-2022/
LOCATION:Dublin
END:VEVENT
BEGIN:VEVENT
DTSTART;TZID=Europe/Dublin:20220529T120000
DTEND;TZID=Europe/Dublin:20220529T160000
DTSTAMP:20260425T153820
CREATED:20220410T180240Z
LAST-MODIFIED:20220427T080440Z
UID:268-1653825600-1653840000@skillsmotorcycleacademy.ie
SUMMARY:Skills Motorcycle Academy Advanced Handling Course 29th May 2022 - SOLD OUT
DESCRIPTION:Skills Motorcycle Academy Advanced Handling Course – Learn the 3 simple techniques that will enable you to master any motorcycles handling at low speed and in enclosed spaces. These techniques are the foundations of all advanced street riding. Suitable for any style of motorcycle\, cruiser\, tourer or sports bike. \n\n\n\nJoin us at our new venue for 2022\, located just off the M7 in Newbridge Co. Kildare\, for the SMART-Advanced Handling Clinic.  The course is open to all riders and machines (you will ride your own bike during the course).  To get the best from this course we suggest you have at least 1 years riding experience. \n\n\n\nCourse Duration: 4 hours \n\n\n\nPlease see our Advanced Handling Clinic page for details of what you can expect from the course. \n\n\n\nSOLD OUT – PLEASE SEE OTHER UPCOMING DATES
URL:https://skillsmotorcycleacademy.ie/index.php/event/skills-motorcycle-academy-advanced-handling-course-29th-may-2022/
LOCATION:Skills Motorcycle Academy – Advanced Handling Compound\, Newbridge Greyhound Stadium\, Newbridge\, Kildare\, W12 FV06\, Ireland
END:VEVENT
BEGIN:VEVENT
DTSTART;TZID=Europe/Dublin:20220424T150000
DTEND;TZID=Europe/Dublin:20220424T190000
DTSTAMP:20260425T153820
CREATED:20220328T164225Z
LAST-MODIFIED:20220411T061557Z
UID:246-1650812400-1650826800@skillsmotorcycleacademy.ie
SUMMARY:Skills Motorcycle Academy Advanced Handling Course 24th April 2022 (Afternoon) SOLD OUT
DESCRIPTION:Skills Motorcycle Academy Advanced Handling Course – Learn the 3 simple techniques that will enable you to master any motorcycles handling at low speed. These techniques are the foundations of all advanced street riding. Suitable for any style of motorcycle\, cruiser\, tourer or sports bike. \nJoin us at Leopardstown Racecourse for the SMART-Advanced Handling Clinic.  The course is open to all riders and machines (you will ride your own bike during the course).  To get the best from this course we suggest you have at least 1 years riding experience. \nCourse Duration: 4 hours \nPlease see our Advanced Handling Clinic page for details of what you can expect from the course. \nSOLD OUT
URL:https://skillsmotorcycleacademy.ie/index.php/event/skills-motorcycle-academy-advanced-handling-course-24th-april-2022-afternoon/
LOCATION:Dublin
END:VEVENT
BEGIN:VEVENT
DTSTART;TZID=Europe/Dublin:20220424T100000
DTEND;TZID=Europe/Dublin:20220424T140000
DTSTAMP:20260425T153820
CREATED:20220328T170558Z
LAST-MODIFIED:20220411T061708Z
UID:259-1650794400-1650808800@skillsmotorcycleacademy.ie
SUMMARY:Skills Motorcycle Academy Advanced Handling Course 24th April 2022 (Morning) SOLD OUT
DESCRIPTION:Skills Motorcycle Academy Advanced Handling Course – Learn the 3 simple techniques that will enable you to master any motorcycles handling at low speed. These techniques are the foundations of all advanced street riding. Suitable for any style of motorcycle\, cruiser\, tourer or sports bike. \n\n\n\nJoin us at Leopardstown Racecourse for the SMART-Advanced Handling Clinic.  The course is open to all riders and machines (you will ride your own bike during the course).  To get the best from this course we suggest you have at least 1 years riding experience. \n\n\n\nCourse Duration: 4 hours \n\n\n\nPlease see our Advanced Handling Clinic page for details of what you can expect from the course. \n\n\n\nSOLD OUT
URL:https://skillsmotorcycleacademy.ie/index.php/event/skills-motorcycle-academy-advanced-handling-course-24th-april-2022-morning-sold-out-see-afternoon-session-for-more-places/
LOCATION:Dublin
END:VEVENT
END:VCALENDAR